BEGIN:VCALENDAR
VERSION:2.0
PRODID:-//Drupal iCal API//EN
X-WR-TIMEZONE:America/Los_Angeles
BEGIN:VTIMEZONE
TZID:America/Los_Angeles
X-LIC-LOCATION:America/Los_Angeles
BEGIN:DAYLIGHT
TZNAME:PDT
TZOFFSETFROM:-0800
TZOFFSETTO:-0700
DTSTART:20260308T100000
END:DAYLIGHT
BEGIN:STANDARD
TZNAME:PST
TZOFFSETFROM:-0700
TZOFFSETTO:-0800
DTSTART:20251102T090000
END:STANDARD
END:VTIMEZONE
BEGIN:VEVENT
UID:4146decd-8358-41e0-b9ba-f64df752292b
DTSTART;TZID=America/Los_Angeles:20260428T163000
SEQUENCE:0
TRANSP:TRANSPARENT
DTEND;TZID=America/Los_Angeles:20260428T173000
SUMMARY:Wallowa Union Railroad Authority (WURA) ZOOM Meeting
CLASS:PUBLIC
DESCRIPTION:Description \n\nWallowa Union Railroad Authority (WURA) board m
 eeting will be held via\nZoom on April 28 at 4:30 pm.  \n\nZoom address\
 nis: https://us02web.zoom.us/j/82241399953?pwd=kZFUYddCohG2fTeqeiJOcgdf1h
 qFA7.1\n[https://us02web.zoom.us/j/82241399953?pwd=kZFUYddCohG2fTeqeiJOcgd
 f1hqFA7.1]\n\n \n 
DTSTAMP:20260417T050530Z
END:VEVENT
END:VCALENDAR